BEGIN:VCALENDAR
VERSION:2.0
PRODID:-//eventon.com NONSGML v1.0//EN
CALSCALE:GREGORIAN
METHOD:PUBLISH
BEGIN:VEVENT
UID:69ea7191734ec
DTSTAMP:20260423T192257Z
DTSTART:20260530T140000Z
DTEND:20260530T200000Z
LOCATION:National Automotive and Truck Museum 1000 Gordon M Buehrig Pl
SUMMARY:Kids & Cars
DESCRIPTION:Date: May 30\,  2026 Location: NATMUS\,  1000 Gordon M. Buehrig
  Pl.\,  Auburn\,  IN Cost: FREE ADMISSION Website: natmus.org Join us for t
 he second year of Kids &amp; Cars at NATMUS—a fun-filled day the whole fa
 mily will love! Meet tribute cars inspired by the characters from Cars and 
 snap some great[..]\nhttps://natmus.org/events/kids-and-cars/
URL:https://natmus.org/events/kids-and-cars/
END:VEVENT
END:VCALENDAR